BEGIN:VCALENDAR
VERSION:2.0
PRODID:-//Leiden Nationale Onderwijsstad - ECPv6.15.20//NONSGML v1.0//EN
CALSCALE:GREGORIAN
METHOD:PUBLISH
X-WR-CALNAME:Leiden Nationale Onderwijsstad
X-ORIGINAL-URL:https://leidenkennisstad.nl/leidennationaleonderwijsstad
X-WR-CALDESC:Evenementen voor Leiden Nationale Onderwijsstad
REFRESH-INTERVAL;VALUE=DURATION:PT1H
X-Robots-Tag:noindex
X-PUBLISHED-TTL:PT1H
BEGIN:VTIMEZONE
TZID:Europe/Amsterdam
BEGIN:DAYLIGHT
TZOFFSETFROM:+0100
TZOFFSETTO:+0200
TZNAME:CEST
DTSTART:20240331T010000
END:DAYLIGHT
BEGIN:STANDARD
TZOFFSETFROM:+0200
TZOFFSETTO:+0100
TZNAME:CET
DTSTART:20241027T010000
END:STANDARD
BEGIN:DAYLIGHT
TZOFFSETFROM:+0100
TZOFFSETTO:+0200
TZNAME:CEST
DTSTART:20250330T010000
END:DAYLIGHT
BEGIN:STANDARD
TZOFFSETFROM:+0200
TZOFFSETTO:+0100
TZNAME:CET
DTSTART:20251026T010000
END:STANDARD
BEGIN:DAYLIGHT
TZOFFSETFROM:+0100
TZOFFSETTO:+0200
TZNAME:CEST
DTSTART:20260329T010000
END:DAYLIGHT
BEGIN:STANDARD
TZOFFSETFROM:+0200
TZOFFSETTO:+0100
TZNAME:CET
DTSTART:20261025T010000
END:STANDARD
END:VTIMEZONE
BEGIN:VEVENT
DTSTART;TZID=Europe/Amsterdam:20250307T140000
DTEND;TZID=Europe/Amsterdam:20250307T150000
DTSTAMP:20260420T144530
CREATED:20250211T101358Z
LAST-MODIFIED:20250211T161750Z
UID:11580-1741356000-1741359600@leidenkennisstad.nl
SUMMARY:Kennismaking met Generatie Mixer
DESCRIPTION:Dat is de kracht van Leiden.  \nKinderen en ouderen die samen een fantasiewereld creëren en avonturen beleven. Dat is Generatie Mixer! Een kunstzinnige werkvorm die past in het basisonderwijs\, maar ook in wijk– of zorgcentra. \nKinderen en ouderen die samen een fantasiewereld creëren en avonturen beleven. Dat is Generatie Mixer! Een kunstzinnige werkvorm die past in het basisonderwijs\, maar ook in wijk– of zorgcentra. Voor de landelijke uitrol van dit project zijn we op zoek naar enthousiaste docenten en potentiële projectleiders. Vind je het leuk om met kinderen en ouderen samen aan de slag te gaan? Heb jij zin om samen met Leyden Academy de mogelijkheden te onderzoeken om Generatie Mixer op te zetten? Ben je kunstvakdocent\, basisschoolleerkracht\, creatieve ZZP’er\, activiteitenbegeleider\, sociaal werker\, medewerker bij een culturele instelling óf ben je gewoon enthousiast en heb je veel interesse en affiniteit met het project? Doe dan mee met onze online kennismaking. Gratis en vrijblijvend. \nOp vrijdag 7 maart 2025 van 14.00 tot 15.00 uur. Bij deze online kennismaking krijg je meer informatie over het project en over een korte training die wordt gegeven door Lieke de Kock en Greet Meesters. Zo kun je goed inschatten of de Generatie Mixer iets voor jou is. Je bent van harte welkom! \nAlvast meer weten over de training? https://www.leydenacademy.nl/kunstvakdocenten-gezocht-voor-generatie-mixer/ \n\nSamen er dwars doorheen. Dat is de kracht van Leiden. \nDit is een samenwerking tussen het Leids Universitair Medisch Centrum\, DuSRA-VOILA en het Centrum voor Innovatief Vakmanschap (CIV) Welzijn & Zorg en Leyden Academy is wereldwijd gelieerd aan de International Longevity Centre (ILC) Global Alliance.
URL:https://leidenkennisstad.nl/leidennationaleonderwijsstad/evenement/gratis-kennismaking-met-generatie-mixer/
LOCATION:Online
CATEGORIES:Onderwijs Anders,Training
ATTACH;FMTTYPE=image/png:https://leidenkennisstad.nl/leidennationaleonderwijsstad/wp-content/uploads/2025/02/Naamloos-49.png
ORGANIZER;CN="Leyden Academy on Vitality and Ageing":MAILTO:info@leydenacademy.nl
END:VEVENT
END:VCALENDAR